BEGIN:VCALENDAR
VERSION:2.0
PRODID:-//Agrupación Astronómica Madrid Sur - ECPv6.15.13.1//NONSGML v1.0//EN
CALSCALE:GREGORIAN
METHOD:PUBLISH
X-WR-CALNAME:Agrupación Astronómica Madrid Sur
X-ORIGINAL-URL:https://aamadridsur.org
X-WR-CALDESC:Eventos para Agrupación Astronómica Madrid Sur
REFRESH-INTERVAL;VALUE=DURATION:PT1H
X-Robots-Tag:noindex
X-PUBLISHED-TTL:PT1H
BEGIN:VTIMEZONE
TZID:Europe/Madrid
BEGIN:DAYLIGHT
TZOFFSETFROM:+0100
TZOFFSETTO:+0200
TZNAME:CEST
DTSTART:20180325T010000
END:DAYLIGHT
BEGIN:STANDARD
TZOFFSETFROM:+0200
TZOFFSETTO:+0100
TZNAME:CET
DTSTART:20181028T010000
END:STANDARD
BEGIN:DAYLIGHT
TZOFFSETFROM:+0100
TZOFFSETTO:+0200
TZNAME:CEST
DTSTART:20190331T010000
END:DAYLIGHT
BEGIN:STANDARD
TZOFFSETFROM:+0200
TZOFFSETTO:+0100
TZNAME:CET
DTSTART:20191027T010000
END:STANDARD
BEGIN:DAYLIGHT
TZOFFSETFROM:+0100
TZOFFSETTO:+0200
TZNAME:CEST
DTSTART:20200329T010000
END:DAYLIGHT
BEGIN:STANDARD
TZOFFSETFROM:+0200
TZOFFSETTO:+0100
TZNAME:CET
DTSTART:20201025T010000
END:STANDARD
END:VTIMEZONE
BEGIN:VEVENT
DTSTART;TZID=Europe/Madrid:20190810T230000
DTEND;TZID=Europe/Madrid:20190811T010000
DTSTAMP:20260425T044455
CREATED:20190713T134844Z
LAST-MODIFIED:20190713T134845Z
UID:514-1565478000-1565485200@aamadridsur.org
SUMMARY:Taller de Astronomía. Salmorál\, Salamanca
DESCRIPTION:
URL:https://aamadridsur.org/event/taller-de-astronomia-salmoral-salamanca/
LOCATION:Salmoral\, Salmoral\, Salamanca\, 37314\, España
CATEGORIES:Observación astronómica
ATTACH;FMTTYPE=image/jpeg:https://aamadridsur.org/wp-content/uploads/WhatsApp-Image-2019-07-13-at-15.32.42.jpeg
ORGANIZER;CN="AAMS":MAILTO:contacto@aamadridsur.org
END:VEVENT
END:VCALENDAR