BEGIN:VCALENDAR
VERSION:2.0
PRODID:-//Agrupación Astronómica Madrid Sur - ECPv6.15.13.1//NONSGML v1.0//EN
CALSCALE:GREGORIAN
METHOD:PUBLISH
X-WR-CALNAME:Agrupación Astronómica Madrid Sur
X-ORIGINAL-URL:https://aamadridsur.org
X-WR-CALDESC:Eventos para Agrupación Astronómica Madrid Sur
REFRESH-INTERVAL;VALUE=DURATION:PT1H
X-Robots-Tag:noindex
X-PUBLISHED-TTL:PT1H
BEGIN:VTIMEZONE
TZID:Europe/Madrid
BEGIN:DAYLIGHT
TZOFFSETFROM:+0100
TZOFFSETTO:+0200
TZNAME:CEST
DTSTART:20180325T010000
END:DAYLIGHT
BEGIN:STANDARD
TZOFFSETFROM:+0200
TZOFFSETTO:+0100
TZNAME:CET
DTSTART:20181028T010000
END:STANDARD
BEGIN:DAYLIGHT
TZOFFSETFROM:+0100
TZOFFSETTO:+0200
TZNAME:CEST
DTSTART:20190331T010000
END:DAYLIGHT
BEGIN:STANDARD
TZOFFSETFROM:+0200
TZOFFSETTO:+0100
TZNAME:CET
DTSTART:20191027T010000
END:STANDARD
BEGIN:DAYLIGHT
TZOFFSETFROM:+0100
TZOFFSETTO:+0200
TZNAME:CEST
DTSTART:20200329T010000
END:DAYLIGHT
BEGIN:STANDARD
TZOFFSETFROM:+0200
TZOFFSETTO:+0100
TZNAME:CET
DTSTART:20201025T010000
END:STANDARD
BEGIN:DAYLIGHT
TZOFFSETFROM:+0100
TZOFFSETTO:+0200
TZNAME:CEST
DTSTART:20210328T010000
END:DAYLIGHT
BEGIN:STANDARD
TZOFFSETFROM:+0200
TZOFFSETTO:+0100
TZNAME:CET
DTSTART:20211031T010000
END:STANDARD
END:VTIMEZONE
BEGIN:VEVENT
DTSTART;TZID=Europe/Madrid:20190621T193000
DTEND;TZID=Europe/Madrid:20190621T230000
DTSTAMP:20260425T133238
CREATED:20190517T111654Z
LAST-MODIFIED:20190621T092248Z
UID:477-1561145400-1561158000@aamadridsur.org
SUMMARY:ESAC Starparty
DESCRIPTION:Este evento no es abierto al público. Solo para socios de la AAMS previa invitación y preinscripción por ESAC. Contactar con la junta directiva de la AAMS para más información.
URL:https://aamadridsur.org/event/starparty/
LOCATION:ESAC\, Camino Bajo del Castillo\, s/n Urb. Villafranca del Castillo\,\, Villanueva de la Cañada\, Madrid\, 28692\, España
CATEGORIES:Observación astronómica
END:VEVENT
BEGIN:VEVENT
DTSTART;VALUE=DATE:20190628
DTEND;VALUE=DATE:20190701
DTSTAMP:20260425T133238
CREATED:20190608T101236Z
LAST-MODIFIED:20190621T092107Z
UID:489-1561680000-1561939199@aamadridsur.org
SUMMARY:Astroarbacia Starparty
DESCRIPTION:Starparty en Navas de Estena. \nMás información en el grupo de Facebook. https://www.facebook.com/groups/801840329905853/
URL:https://aamadridsur.org/event/astroarbacia-starparty/
LOCATION:Navas de Estena\, Navas de Estena\, Navas de Estena\, Ciudad Real\, 13194\, España
CATEGORIES:Jornadas Astronómicas
ATTACH;FMTTYPE=image/jpeg:https://aamadridsur.org/wp-content/uploads/36220476066_e6e8d8964a_k.jpg
END:VEVENT
BEGIN:VEVENT
DTSTART;TZID=Europe/Madrid:20190712T210000
DTEND;TZID=Europe/Madrid:20190712T230000
DTSTAMP:20260425T133238
CREATED:20190608T100850Z
LAST-MODIFIED:20190621T092131Z
UID:487-1562965200-1562972400@aamadridsur.org
SUMMARY:Observación astronómica en Polvoranca
DESCRIPTION:
URL:https://aamadridsur.org/event/observacion-astronomica-en-polvoranca/
LOCATION:Embarcadero de la laguna\, junto al parking de Alcorcón\, Parque Lago Polvoranca\, Alcorcón\, Madrid\, 28914\, España
CATEGORIES:Observación astronómica
ATTACH;FMTTYPE=image/jpeg:https://aamadridsur.org/wp-content/uploads/polvoranca2019.jpg
ORGANIZER;CN="AAMS":MAILTO:contacto@aamadridsur.org
END:VEVENT
BEGIN:VEVENT
DTSTART;TZID=Europe/Madrid:20190720T200000
DTEND;TZID=Europe/Madrid:20190721T200000
DTSTAMP:20260425T133238
CREATED:20190713T104654Z
LAST-MODIFIED:20190713T104810Z
UID:508-1563652800-1563739200@aamadridsur.org
SUMMARY:Observación pública. 50 aniversario de la llegada del hombre a la Luna.
DESCRIPTION:Celebramos el 50 aniversario de la llegada del hombre a la Luna participando con nuestros telescopios en una observación astronómica posterior a la conferencia de Pedro García Lario (Astrónomo de la ESA)
URL:https://aamadridsur.org/event/observacion-publica-50-aniversario-de-la-llegada-del-hombre-a-la-luna/
LOCATION:Maranchón\, Asociación Cultural la Migaña\, Maranchón\, Guadalajara\, 19280\, España
CATEGORIES:Observación astronómica
ATTACH;FMTTYPE=image/jpeg:https://aamadridsur.org/wp-content/uploads/maranchon2019.jpg
ORGANIZER;CN="AAMS":MAILTO:contacto@aamadridsur.org
END:VEVENT
BEGIN:VEVENT
DTSTART;TZID=Europe/Madrid:20190810T230000
DTEND;TZID=Europe/Madrid:20190811T010000
DTSTAMP:20260425T133238
CREATED:20190713T134844Z
LAST-MODIFIED:20190713T134845Z
UID:514-1565478000-1565485200@aamadridsur.org
SUMMARY:Taller de Astronomía. Salmorál\, Salamanca
DESCRIPTION:
URL:https://aamadridsur.org/event/taller-de-astronomia-salmoral-salamanca/
LOCATION:Salmoral\, Salmoral\, Salamanca\, 37314\, España
CATEGORIES:Observación astronómica
ATTACH;FMTTYPE=image/jpeg:https://aamadridsur.org/wp-content/uploads/WhatsApp-Image-2019-07-13-at-15.32.42.jpeg
ORGANIZER;CN="AAMS":MAILTO:contacto@aamadridsur.org
END:VEVENT
BEGIN:VEVENT
DTSTART;TZID=Europe/Madrid:20190906T200000
DTEND;TZID=Europe/Madrid:20190906T230000
DTSTAMP:20260425T133238
CREATED:20190821T091638Z
LAST-MODIFIED:20190827T075831Z
UID:570-1567800000-1567810800@aamadridsur.org
SUMMARY:Observación y talleres en Hospital 12 de Octubre
DESCRIPTION:Observación con telescopios y talleres para los niños pacientes de pediatría en el hospital 12 de Octubre.
URL:https://aamadridsur.org/event/observacion-y-talleres-en-hospital-12-de-octubre/
LOCATION:Hospital 12 de octubre\, Av. Cordoba\, s/n\, Madrid\, Madrid\, 28041\, España
CATEGORIES:Observación astronómica
ATTACH;FMTTYPE=image/jpeg:https://aamadridsur.org/wp-content/uploads/2018/11/lapaz.jpg
ORGANIZER;CN="AAMS":MAILTO:contacto@aamadridsur.org
END:VEVENT
BEGIN:VEVENT
DTSTART;TZID=Europe/Madrid:20190907T110000
DTEND;TZID=Europe/Madrid:20190907T140000
DTSTAMP:20260425T133238
CREATED:20190827T075704Z
LAST-MODIFIED:20190827T075706Z
UID:572-1567854000-1567864800@aamadridsur.org
SUMMARY:Charlas: "Magnitudes estelares\,...¡Y más allá!" y "¡Papá! ¿Que hay en mis prismáticos?"
DESCRIPTION:
URL:https://aamadridsur.org/event/charlas-magnitudes-estelares-y-mas-alla-y-papa-que-hay-en-mis-prismaticos/
LOCATION:Aula de Astronomía de Fuenlabrada\, c/ Callao 61\, Fuenlabrada\, Madrid\, 28945\, España
CATEGORIES:Conferencia
ATTACH;FMTTYPE=image/jpeg:https://aamadridsur.org/wp-content/uploads/magnitudes2019.jpg
ORGANIZER;CN="AAMS":MAILTO:contacto@aamadridsur.org
END:VEVENT
BEGIN:VEVENT
DTSTART;TZID=Europe/Madrid:20190927T140000
DTEND;TZID=Europe/Madrid:20190929T140000
DTSTAMP:20260425T133238
CREATED:20190713T135649Z
LAST-MODIFIED:20190816T115354Z
UID:518-1569592800-1569765600@aamadridsur.org
SUMMARY:Astrotiermes
DESCRIPTION:Excursiones\, talleres\, juegos para toda la familia\, zona de acampada\, conferencias y dos noches de observación en buena compañía bajo uno de los mejores cielos de Europa continental.\n¿Te lo vas a perder?
URL:https://aamadridsur.org/event/astrotiermes/
LOCATION:Hotel-Restaurante Termes\, Paraje Venta de Tiermes\, 0 s-n\, Carrascosa de Arriba\, Soria\, 42344\, España
CATEGORIES:Jornadas Astronómicas
ATTACH;FMTTYPE=image/jpeg:https://aamadridsur.org/wp-content/uploads/astrotiermes2012noche2-1.jpg
ORGANIZER;CN="AAMS":MAILTO:contacto@aamadridsur.org
END:VEVENT
BEGIN:VEVENT
DTSTART;TZID=Europe/Madrid:20191004T200000
DTEND;TZID=Europe/Madrid:20191004T220000
DTSTAMP:20260425T133238
CREATED:20190918T193714Z
LAST-MODIFIED:20190918T194507Z
UID:581-1570219200-1570226400@aamadridsur.org
SUMMARY:Observación pública colegio Pinar de San José
DESCRIPTION:
URL:https://aamadridsur.org/event/observacion-publica-colegio-pinar-de-san-jose/
LOCATION:ceip pinar de san jose\, C/ Patrimonio de la humanidad 39\, Madrid
CATEGORIES:Observación astronómica
ORGANIZER;CN="AAMS":MAILTO:contacto@aamadridsur.org
END:VEVENT
BEGIN:VEVENT
DTSTART;TZID=Europe/Madrid:20191005T110000
DTEND;TZID=Europe/Madrid:20191005T130000
DTSTAMP:20260425T133238
CREATED:20191001T093217Z
LAST-MODIFIED:20191001T093219Z
UID:587-1570273200-1570280400@aamadridsur.org
SUMMARY:Jornada de bienvenida a nuevos socios
DESCRIPTION:El sábado 5 de octubre a las 11:00 nos reunimos en el Aula de Astronomía de Fuenlabrada para dar la bienvenida a los nuevos socios y para conocernos. También enseñaremos las instalaciones del Aula de Astronomía de Fuenlabrada donde tenemos nuestra sede\, os informaremos sobre las salidas de observación y las diferentes actividades que realizamos en la AAMS. Será una jornada distendida y muy agradable. \nSi aún no eres socio/a de la AAMS y te interesaría venir a conocernos también es una buena oportunidad para informarte.
URL:https://aamadridsur.org/event/jornada-de-bienvenida-a-nuevos-socios/
LOCATION:Aula de Astronomía de Fuenlabrada\, c/ Callao 61\, Fuenlabrada\, Madrid\, 28945\, España
CATEGORIES:Reunión
ATTACH;FMTTYPE=image/jpeg:https://aamadridsur.org/wp-content/uploads/27500538_10215421360755815_8031751636624998785_o.jpg
ORGANIZER;CN="AAMS":MAILTO:contacto@aamadridsur.org
END:VEVENT
BEGIN:VEVENT
DTSTART;TZID=Europe/Madrid:20191019T110000
DTEND;TZID=Europe/Madrid:20191019T130000
DTSTAMP:20260425T133238
CREATED:20191013T114043Z
LAST-MODIFIED:20191013T114209Z
UID:596-1571482800-1571490000@aamadridsur.org
SUMMARY:Navegación astronómica
DESCRIPTION:Actividad gratuita abierta al público.
URL:https://aamadridsur.org/event/navegacion-astronomica/
LOCATION:Aula de Astronomía de Fuenlabrada\, c/ Callao 61\, Fuenlabrada\, Madrid\, 28945\, España
CATEGORIES:Conferencia
ATTACH;FMTTYPE=image/jpeg:https://aamadridsur.org/wp-content/uploads/navegacionastronomica.jpg
ORGANIZER;CN="AAMS":MAILTO:contacto@aamadridsur.org
END:VEVENT
BEGIN:VEVENT
DTSTART;TZID=Europe/Madrid:20191108T213000
DTEND;TZID=Europe/Madrid:20191108T223000
DTSTAMP:20260425T133238
CREATED:20191106T203257Z
LAST-MODIFIED:20191106T203258Z
UID:605-1573248600-1573252200@aamadridsur.org
SUMMARY:Noche de Luna - Semana de la Ciencia 2019
DESCRIPTION:Acto divulgativo\, poético y musical. \nCharla de Ángel Gómez Roldán \nRecital de Miguel Rodriguez \nObservación lunar con telescopios en la plaza del ayuntamiento.
URL:https://aamadridsur.org/event/noche-de-luna-semana-de-la-ciencia-2019/
LOCATION:Ayuntamiento de Fuenlabrada\, Plaza de la Constitución 1\, Fuenlabrada\, Madrid\, 28943\, España
CATEGORIES:Jornadas Astronómicas
ATTACH;FMTTYPE=image/jpeg:https://aamadridsur.org/wp-content/uploads/semanaciencia2019.jpg
ORGANIZER;CN="AAMS":MAILTO:contacto@aamadridsur.org
END:VEVENT
BEGIN:VEVENT
DTSTART;TZID=Europe/Madrid:20191109T110000
DTEND;TZID=Europe/Madrid:20191109T130000
DTSTAMP:20260425T133238
CREATED:20191106T203516Z
LAST-MODIFIED:20191106T204132Z
UID:609-1573297200-1573304400@aamadridsur.org
SUMMARY:Conferencia: Caracterización de lugares de observación
DESCRIPTION:Conferencia de Luís Gil\, socio de la AAMS. \nAspectos prácticos observacionales.
URL:https://aamadridsur.org/event/conferencia-caracterizacion-de-lugares-de-observacion/
LOCATION:Aula de Astronomía de Fuenlabrada\, c/ Callao 61\, Fuenlabrada\, Madrid\, 28945\, España
CATEGORIES:Conferencia
ATTACH;FMTTYPE=image/jpeg:https://aamadridsur.org/wp-content/uploads/semanaciencia2019.jpg
ORGANIZER;CN="AAMS":MAILTO:contacto@aamadridsur.org
END:VEVENT
BEGIN:VEVENT
DTSTART;TZID=Europe/Madrid:20191115T183000
DTEND;TZID=Europe/Madrid:20191115T193000
DTSTAMP:20260425T133238
CREATED:20191106T203725Z
LAST-MODIFIED:20191106T203725Z
UID:611-1573842600-1573846200@aamadridsur.org
SUMMARY:Trae tu propio telescopio y aprende a usarlo.
DESCRIPTION:
URL:https://aamadridsur.org/event/trae-tu-propio-telescopio-y-aprende-a-usarlo/
LOCATION:Aula de Astronomía de Fuenlabrada\, c/ Callao 61\, Fuenlabrada\, Madrid\, 28945\, España
CATEGORIES:Curso
ATTACH;FMTTYPE=image/jpeg:https://aamadridsur.org/wp-content/uploads/semanaciencia2019.jpg
ORGANIZER;CN="AAMS":MAILTO:contacto@aamadridsur.org
END:VEVENT
BEGIN:VEVENT
DTSTART;TZID=Europe/Madrid:20191116T170000
DTEND;TZID=Europe/Madrid:20191116T180000
DTSTAMP:20260425T133238
CREATED:20191106T203917Z
LAST-MODIFIED:20191106T203917Z
UID:613-1573923600-1573927200@aamadridsur.org
SUMMARY:Conferencia: El órdago de Kennedy
DESCRIPTION:Conferencia de Alberto Martos
URL:https://aamadridsur.org/event/conferencia-el-ordago-de-kennedy/
LOCATION:Aula de Astronomía de Fuenlabrada\, c/ Callao 61\, Fuenlabrada\, Madrid\, 28945\, España
CATEGORIES:Conferencia
ATTACH;FMTTYPE=image/jpeg:https://aamadridsur.org/wp-content/uploads/semanaciencia2019.jpg
ORGANIZER;CN="AAMS":MAILTO:contacto@aamadridsur.org
END:VEVENT
BEGIN:VEVENT
DTSTART;TZID=Europe/Madrid:20191130T110000
DTEND;TZID=Europe/Madrid:20191130T130000
DTSTAMP:20260425T133238
CREATED:20191117T215523Z
LAST-MODIFIED:20191117T215523Z
UID:617-1575111600-1575118800@aamadridsur.org
SUMMARY:Junta ordinaria 2019
DESCRIPTION:
URL:https://aamadridsur.org/event/junta-ordinaria-2019/
LOCATION:Aula de Astronomía de Fuenlabrada\, c/ Callao 61\, Fuenlabrada\, Madrid\, 28945\, España
CATEGORIES:Reunión
ORGANIZER;CN="AAMS":MAILTO:contacto@aamadridsur.org
END:VEVENT
BEGIN:VEVENT
DTSTART;TZID=Europe/Madrid:20191214T180000
DTEND;TZID=Europe/Madrid:20191214T200000
DTSTAMP:20260425T133238
CREATED:20191203T103319Z
LAST-MODIFIED:20191203T103319Z
UID:621-1576346400-1576353600@aamadridsur.org
SUMMARY:Merienda-cena de Navidad
DESCRIPTION:Con motivo de la celebración de las fiestas y para cerrar el año 2019 nos reuniremos el sábado 14 a las 18:00 en la sede para disfrutar de una merienda-cena de Navidad. \nActividad solo para socios y acompañantes de socios. \n 
URL:https://aamadridsur.org/event/merienda-cena-de-navidad/
LOCATION:Aula de Astronomía de Fuenlabrada\, c/ Callao 61\, Fuenlabrada\, Madrid\, 28945\, España
CATEGORIES:Reunión
ORGANIZER;CN="AAMS":MAILTO:contacto@aamadridsur.org
END:VEVENT
BEGIN:VEVENT
DTSTART;TZID=Europe/Madrid:20200208T110000
DTEND;TZID=Europe/Madrid:20200208T130000
DTSTAMP:20260425T133238
CREATED:20200114T100100Z
LAST-MODIFIED:20200114T100237Z
UID:631-1581159600-1581166800@aamadridsur.org
SUMMARY:Taller de detección de meteoros vía radio
DESCRIPTION:Taller sobre detección de meteoros por radio\, impartido por Ángel Pérez. Durante el taller se explicará la construcción de antenas caseras para la detección de meteoros y la configuración del software necesario. \n 
URL:https://aamadridsur.org/event/taller-de-deteccion-de-meteoros-via-radio/
LOCATION:Aula de Astronomía de Fuenlabrada\, c/ Callao 61\, Fuenlabrada\, Madrid\, 28945\, España
CATEGORIES:Curso
ATTACH;FMTTYPE=image/png:https://aamadridsur.org/wp-content/uploads/echoes_ss.png
ORGANIZER;CN="AAMS":MAILTO:contacto@aamadridsur.org
END:VEVENT
BEGIN:VEVENT
DTSTART;TZID=Europe/Madrid:20200215T110000
DTEND;TZID=Europe/Madrid:20200215T140000
DTSTAMP:20260425T133238
CREATED:20200204T100303Z
LAST-MODIFIED:20200208T165320Z
UID:657-1581764400-1581775200@aamadridsur.org
SUMMARY:Celebración del 11F - Día internacional de la mujer y la niña en la ciencia
DESCRIPTION:Conferencias de Mª Dolores Rodriguez Frías y Ángeles Moliné. \n 
URL:https://aamadridsur.org/event/celebracion-del-11f-dia-internacional-de-la-mujer-y-la-nina-en-la-ciencia/
LOCATION:Aula de Astronomía de Fuenlabrada\, c/ Callao 61\, Fuenlabrada\, Madrid\, 28945\, España
CATEGORIES:Conferencia
ATTACH;FMTTYPE=image/jpeg:https://aamadridsur.org/wp-content/uploads/11Febrero_2020.jpg
ORGANIZER;CN="AAMS":MAILTO:contacto@aamadridsur.org
END:VEVENT
BEGIN:VEVENT
DTSTART;VALUE=DATE:20200222
DTEND;VALUE=DATE:20200223
DTSTAMP:20260425T133238
CREATED:20200114T125621Z
LAST-MODIFIED:20200130T083400Z
UID:638-1582329600-1582415999@aamadridsur.org
SUMMARY:Curso de iniciación a la astrofotografía de cielo profundo (solo socios AAMS)
DESCRIPTION:Curso de iniciación a la astrofotografía que constará de 4 horas de teoría en el aula y 4 horas prácticas en el campo. \nPara asistir a esta actividad es imprescindible ser socio de la AAMS. \nImparte: Pablo Gafo \n 
URL:https://aamadridsur.org/event/curso-de-iniciacion-a-la-astrofotografia-de-cielo-profundo-solo-socios-aams/
LOCATION:Aula de Astronomía de Fuenlabrada\, c/ Callao 61\, Fuenlabrada\, Madrid\, 28945\, España
CATEGORIES:Curso
ATTACH;FMTTYPE=image/jpeg:https://aamadridsur.org/wp-content/uploads/36220476066_e6e8d8964a_k.jpg
ORGANIZER;CN="AAMS":MAILTO:contacto@aamadridsur.org
END:VEVENT
BEGIN:VEVENT
DTSTART;TZID=Europe/Madrid:20200229T100000
DTEND;TZID=Europe/Madrid:20200229T110000
DTSTAMP:20260425T133238
CREATED:20200131T113511Z
LAST-MODIFIED:20200131T113511Z
UID:648-1582970400-1582974000@aamadridsur.org
SUMMARY:Taller del grupo de espectroscopía
DESCRIPTION:Taller del grupo de espectroscopía.
URL:https://aamadridsur.org/event/taller-del-grupo-de-espectroscopia/
LOCATION:Aula de Astronomía de Fuenlabrada\, c/ Callao 61\, Fuenlabrada\, Madrid\, 28945\, España
CATEGORIES:Curso
ORGANIZER;CN="AAMS":MAILTO:contacto@aamadridsur.org
END:VEVENT
BEGIN:VEVENT
DTSTART;VALUE=DATE:20200306
DTEND;VALUE=DATE:20200307
DTSTAMP:20260425T133238
CREATED:20200131T132845Z
LAST-MODIFIED:20200131T132845Z
UID:652-1583452800-1583539199@aamadridsur.org
SUMMARY:Observación con telescopios en el colegio Ventura Rodriguez
DESCRIPTION:Observación con telescopios en el colegio Ventura Rodriguez
URL:https://aamadridsur.org/event/observacion-con-telescopios-en-el-colegio-ventura-rodriguez/
LOCATION:Madrid
CATEGORIES:Observación astronómica
ORGANIZER;CN="AAMS":MAILTO:contacto@aamadridsur.org
END:VEVENT
BEGIN:VEVENT
DTSTART;TZID=Europe/Madrid:20200307T170000
DTEND;TZID=Europe/Madrid:20200307T180000
DTSTAMP:20260425T133238
CREATED:20200131T113931Z
LAST-MODIFIED:20200131T113931Z
UID:650-1583600400-1583604000@aamadridsur.org
SUMMARY:Taller del grupo de espectroscopía
DESCRIPTION:Taller del grupo de espectroscopía
URL:https://aamadridsur.org/event/taller-del-grupo-de-espectroscopia-2/
LOCATION:Aula de Astronomía de Fuenlabrada\, c/ Callao 61\, Fuenlabrada\, Madrid\, 28945\, España
CATEGORIES:Reunión
ORGANIZER;CN="AAMS":MAILTO:contacto@aamadridsur.org
END:VEVENT
BEGIN:VEVENT
DTSTART;TZID=Europe/Madrid:20200919T110000
DTEND;TZID=Europe/Madrid:20200919T130000
DTSTAMP:20260425T133238
CREATED:20200916T113402Z
LAST-MODIFIED:20200916T114220Z
UID:725-1600513200-1600520400@aamadridsur.org
SUMMARY:Reunión virtual en server de Discord
DESCRIPTION:Este sábado 19 de septiembre a las 11:00 tenemos reunión de socios por videoconferencia en nuestro servidor de Discord. Debido a la importancia de los temas tratados se ruega la asistencia de todos los socios. Gracias. \n 
URL:https://aamadridsur.org/event/reunion-virtual-discord-septiembre2020/
LOCATION:Madrid
CATEGORIES:Reunión
ATTACH;FMTTYPE=image/jpeg:https://aamadridsur.org/wp-content/uploads/videoconferencia.jpg
ORGANIZER;CN="AAMS":MAILTO:contacto@aamadridsur.org
END:VEVENT
BEGIN:VEVENT
DTSTART;TZID=Europe/Madrid:20201031T170000
DTEND;TZID=Europe/Madrid:20201031T180000
DTSTAMP:20260425T133238
CREATED:20201030T201009Z
LAST-MODIFIED:20201030T201009Z
UID:749-1604163600-1604167200@aamadridsur.org
SUMMARY:Charla en la AAMS: "Sobre el Sol"\, por Javier Ruiz Fernández
DESCRIPTION:Mañana\, Sábado 31 de Octubre de 2020\, tenemos una interesante charla en la AAMS en abierto para todos los públicos: «Sobre el Sol»\,  en la que Javier Ruiz Fernández nos contará información muy interesante sobre nuestro astro rey. \nSi deseas unirte a la charla\, es muy fácil\, será a través de la plataforma zoom\, te dejamos los datos de acceso: \nID 918 9158 3743 \nClave acceso 305759 \nSi tienes problemas con el acceso\, pregúntanos en nuestras redes sociales. No os la perdáis! \n 
URL:https://aamadridsur.org/event/charla-en-la-aams-sobre-el-sol-por-javier-ruiz-fernandez/
LOCATION:Madrid
CATEGORIES:Conferencia
END:VEVENT
BEGIN:VEVENT
DTSTART;TZID=Europe/Madrid:20201107T170000
DTEND;TZID=Europe/Madrid:20201107T180000
DTSTAMP:20260425T133238
CREATED:20201104T193443Z
LAST-MODIFIED:20201106T175024Z
UID:756-1604768400-1604772000@aamadridsur.org
SUMMARY:Semana de la Ciencia 2020 en la AAMS
DESCRIPTION:Con motivo de la semana de la ciencia\, en la Agrupación Astronómica de Madrid Sur\, tenemos dos atractivas charlas impartidas por dos de nuestros socios: \n\n\nSábado 7 Noviembre\, Luis Gil\, nos hablará de Espectroscopía: El conocimiento del firmamento mediante la luz. \n\nDatos de acceso en Zoom:  ID: 91285645514\, Clave acceso: 606838.\n\n\n[CANCELADA]Domingo 8 Noviembre\, Javier Dominguez\, nos hablará sobre oculares: Un punto de vista: Una descripción práctica de los oculares. \n\nDatos de acceso en Zoom:  ID: 96036647747\, Clave acceso: 781180.\n\n\n\nImportante! Sentimos informaros de que se cancela de forma provisional la charla agendada para el Domingo 8 por motivos de fuerza mayor. Esperamos anunciar la próxima fecha próximamente\, seguid atentos! Sentimos las molestias. \n 
URL:https://aamadridsur.org/event/semana-de-la-ciencia/
LOCATION:Madrid
CATEGORIES:Conferencia
END:VEVENT
BEGIN:VEVENT
DTSTART;TZID=Europe/Madrid:20201114T080000
DTEND;TZID=Europe/Madrid:20201115T170000
DTSTAMP:20260425T133238
CREATED:20201110T193945Z
LAST-MODIFIED:20201110T193945Z
UID:765-1605340800-1605459600@aamadridsur.org
SUMMARY:Semana de la Ciencia en la AAMS II
DESCRIPTION:Seguimos aportando material interesante en la Semana de la Ciencia en la Agrupación Astronómica de Madrid Sur. En esta ocasión\, tenemos otras dos charlas interesantes: \n\n\nSábado 14 Noviembre\, Luis Gil\, nos hablará sobre Caracterización de lugares de observación. \n\nDatos de acceso en Zoom:  ID: 91568280098\, Clave acceso: 916715.\n\n\nDomingo 15 Noviembre\,  Javier Dominguez\, sobre Iniciación a la Observación.\n\nDatos de acceso en Zoom:  ID: 91651023021\, Clave acceso: 747124.
URL:https://aamadridsur.org/event/semana-de-la-ciencia-en-la-aams-ii/
LOCATION:Madrid
END:VEVENT
BEGIN:VEVENT
DTSTART;TZID=Europe/Madrid:20201122T170000
DTEND;TZID=Europe/Madrid:20201122T180000
DTSTAMP:20260425T133238
CREATED:20201117T080439Z
LAST-MODIFIED:20201117T080439Z
UID:769-1606064400-1606068000@aamadridsur.org
SUMMARY:Semana de la Ciencia en la AAMS III - Nuevo evento
DESCRIPTION:Continuamos con eventos en la AAMS por la Semana de la Ciencia de 2020. En esta ocasión\, os traemos un taller interesante donde aprenderemos de la mano de nuestro socio Roberto Ferrero a procesar con Astrosurface. No os lo perdáis! \n\nSábado 22 Noviembre\, Roberto Ferrero\, nos dará un Taller de Procesado con Astrosurface\n\nDatos de acceso en Zoom:  ID: 93326071155\, Clave acceso: 687921.\n\n\n\n  \n 
URL:https://aamadridsur.org/event/taller-de-procesado/
LOCATION:Madrid
CATEGORIES:Conferencia
END:VEVENT
BEGIN:VEVENT
DTSTART;TZID=Europe/Madrid:20201129T110000
DTEND;TZID=Europe/Madrid:20201129T140000
DTSTAMP:20260425T133238
CREATED:20201127T194430Z
LAST-MODIFIED:20201127T194507Z
UID:774-1606647600-1606658400@aamadridsur.org
SUMMARY:Junta general ordinaria 2020
DESCRIPTION:Junta general ordinaria 2020 en modo online a través de la plataforma Zoom. Se ruega la asistencia de todos los socios.
URL:https://aamadridsur.org/event/junta-general-ordinaria-2020/
LOCATION:Madrid
CATEGORIES:Reunión
ATTACH;FMTTYPE=image/jpeg:https://aamadridsur.org/wp-content/uploads/videoconferencia.jpg
ORGANIZER;CN="AAMS":MAILTO:contacto@aamadridsur.org
END:VEVENT
BEGIN:VEVENT
DTSTART;TZID=Europe/Madrid:20201205T180000
DTEND;TZID=Europe/Madrid:20201205T193000
DTSTAMP:20260425T133238
CREATED:20201204T203133Z
LAST-MODIFIED:20201204T203134Z
UID:787-1607191200-1607196600@aamadridsur.org
SUMMARY:I Observación on line en la AAMS
DESCRIPTION:Nos complace anunciaros que mañana\, día 5 de Diciembre\, tendremos por primera vez\, una observación on line.  Aprenderemos a reconocer constelaciones y otros objetos observables\, algunos trucos para una buena observación y más cosas! No os lo perdáis!! \nConvocatoria Zoom: \n\nSábado 5 Diciembre\, Jose Luis Sánchez Cifuentes (Donqui) nos dirigirá en la I Observación on line!\n\nDatos de acceso en Zoom:  ID: 95580542607\, Clave acceso: 426212.\n\n\n\n 
URL:https://aamadridsur.org/event/i-observacion-on-line-en-la-aams/
LOCATION:Madrid
CATEGORIES:Conferencia
END:VEVENT
END:VCALENDAR