BEGIN:VCALENDAR
VERSION:2.0
PRODID:-//Agrupación Astronómica Madrid Sur - ECPv6.15.13.1//NONSGML v1.0//EN
CALSCALE:GREGORIAN
METHOD:PUBLISH
X-ORIGINAL-URL:https://aamadridsur.org
X-WR-CALDESC:Eventos para Agrupación Astronómica Madrid Sur
REFRESH-INTERVAL;VALUE=DURATION:PT1H
X-Robots-Tag:noindex
X-PUBLISHED-TTL:PT1H
BEGIN:VTIMEZONE
TZID:Europe/Madrid
BEGIN:DAYLIGHT
TZOFFSETFROM:+0100
TZOFFSETTO:+0200
TZNAME:CEST
DTSTART:20210328T010000
END:DAYLIGHT
BEGIN:STANDARD
TZOFFSETFROM:+0200
TZOFFSETTO:+0100
TZNAME:CET
DTSTART:20211031T010000
END:STANDARD
BEGIN:DAYLIGHT
TZOFFSETFROM:+0100
TZOFFSETTO:+0200
TZNAME:CEST
DTSTART:20220327T010000
END:DAYLIGHT
BEGIN:STANDARD
TZOFFSETFROM:+0200
TZOFFSETTO:+0100
TZNAME:CET
DTSTART:20221030T010000
END:STANDARD
BEGIN:DAYLIGHT
TZOFFSETFROM:+0100
TZOFFSETTO:+0200
TZNAME:CEST
DTSTART:20230326T010000
END:DAYLIGHT
BEGIN:STANDARD
TZOFFSETFROM:+0200
TZOFFSETTO:+0100
TZNAME:CET
DTSTART:20231029T010000
END:STANDARD
END:VTIMEZONE
BEGIN:VEVENT
DTSTART;TZID=Europe/Madrid:20221229T180000
DTEND;TZID=Europe/Madrid:20221229T200000
DTSTAMP:20260419T194522
CREATED:20221213T175545Z
LAST-MODIFIED:20221213T175546Z
UID:1277-1672336800-1672344000@aamadridsur.org
SUMMARY:Presentación del libro: "La Cruz del Sur" de Roberto López del Castillo
DESCRIPTION:El Jueves 29 de diciembre en el Aula de Astronomía de Fuenlabrada se presentará el libro de nuestro compañero de la AAMS Roberto López del Castillo titulado «La Cruz del Sur». \n 
URL:https://aamadridsur.org/event/presentacion-del-libro-la-cruz-del-sur-de-roberto-lopez-del-castillo/
LOCATION:Aula de Astronomía de Fuenlabrada\, c/ Callao 61\, Fuenlabrada\, Madrid\, 28945\, España
CATEGORIES:Conferencia
ATTACH;FMTTYPE=image/jpeg:https://aamadridsur.org/wp-content/uploads/cruzdelsur.jpg
ORGANIZER;CN="AAMS":MAILTO:contacto@aamadridsur.org
END:VEVENT
END:VCALENDAR