BEGIN:VCALENDAR
VERSION:2.0
PRODID:-//Agrupación Astronómica Madrid Sur - ECPv6.15.13.1//NONSGML v1.0//EN
CALSCALE:GREGORIAN
METHOD:PUBLISH
X-ORIGINAL-URL:https://aamadridsur.org
X-WR-CALDESC:Eventos para Agrupación Astronómica Madrid Sur
REFRESH-INTERVAL;VALUE=DURATION:PT1H
X-Robots-Tag:noindex
X-PUBLISHED-TTL:PT1H
BEGIN:VTIMEZONE
TZID:Europe/Madrid
BEGIN:DAYLIGHT
TZOFFSETFROM:+0100
TZOFFSETTO:+0200
TZNAME:CEST
DTSTART:20200329T010000
END:DAYLIGHT
BEGIN:STANDARD
TZOFFSETFROM:+0200
TZOFFSETTO:+0100
TZNAME:CET
DTSTART:20201025T010000
END:STANDARD
BEGIN:DAYLIGHT
TZOFFSETFROM:+0100
TZOFFSETTO:+0200
TZNAME:CEST
DTSTART:20210328T010000
END:DAYLIGHT
BEGIN:STANDARD
TZOFFSETFROM:+0200
TZOFFSETTO:+0100
TZNAME:CET
DTSTART:20211031T010000
END:STANDARD
BEGIN:DAYLIGHT
TZOFFSETFROM:+0100
TZOFFSETTO:+0200
TZNAME:CEST
DTSTART:20220327T010000
END:DAYLIGHT
BEGIN:STANDARD
TZOFFSETFROM:+0200
TZOFFSETTO:+0100
TZNAME:CET
DTSTART:20221030T010000
END:STANDARD
END:VTIMEZONE
BEGIN:VEVENT
DTSTART;TZID=Europe/Madrid:20210212T190000
DTEND;TZID=Europe/Madrid:20210212T210000
DTSTAMP:20260425T011420
CREATED:20210210T131753Z
LAST-MODIFIED:20210210T131753Z
UID:829-1613156400-1613163600@aamadridsur.org
SUMMARY:Día Internacional de la Mujer y la Niña en la Ciencia en la AAMS
DESCRIPTION:Con motivo del día internacional de la mujer y la niña en la ciencia\, en la Agrupación Astronómica de Madrid Sur\, tenemos dos interesantes conferencias el próximo viernes que no te puedes perder: \n\n\nViernes 12 Febrero\, 19:00h\, Susana Malón\, física especializada en contaminación lumínica y directora de Lumínica Ambiental\, nos hablará sobre «Iluminación inteligente compatible con el medio y el cielo nocturno». \n\nDatos de acceso en Zoom:  ID: 97186344996\, Clave acceso: 601729.\n\n\nViernes 12 Febrero\, 20:00h\, Antonia M. Varela\,  directora gerente de la Fundación Starlight\,  miembro del comité científico organizador de la conferencia Dark & Quiet Sky y presidenta del Working Group Dark Sky Oases\, nos hablará sobre: «La fundación Starlight: preservando la luz de las estrellas para la conservación de espacios naturales y el desarrollo sostenible local».\n\nDatos de acceso en Zoom:  ID: 95713327724\, Clave acceso: 78791483.
URL:https://aamadridsur.org/event/dia-internacional-de-la-mujer-y-la-nina-en-la-ciencia-en-la-aams/
LOCATION:Madrid
CATEGORIES:Conferencia
END:VEVENT
END:VCALENDAR