BEGIN:VCALENDAR
VERSION:2.0
PRODID:-//Agrupación Astronómica Madrid Sur - ECPv6.15.13.1//NONSGML v1.0//EN
CALSCALE:GREGORIAN
METHOD:PUBLISH
X-WR-CALNAME:Agrupación Astronómica Madrid Sur
X-ORIGINAL-URL:https://aamadridsur.org
X-WR-CALDESC:Eventos para Agrupación Astronómica Madrid Sur
REFRESH-INTERVAL;VALUE=DURATION:PT1H
X-Robots-Tag:noindex
X-PUBLISHED-TTL:PT1H
BEGIN:VTIMEZONE
TZID:Europe/Madrid
BEGIN:DAYLIGHT
TZOFFSETFROM:+0100
TZOFFSETTO:+0200
TZNAME:CEST
DTSTART:20190331T010000
END:DAYLIGHT
BEGIN:STANDARD
TZOFFSETFROM:+0200
TZOFFSETTO:+0100
TZNAME:CET
DTSTART:20191027T010000
END:STANDARD
BEGIN:DAYLIGHT
TZOFFSETFROM:+0100
TZOFFSETTO:+0200
TZNAME:CEST
DTSTART:20200329T010000
END:DAYLIGHT
BEGIN:STANDARD
TZOFFSETFROM:+0200
TZOFFSETTO:+0100
TZNAME:CET
DTSTART:20201025T010000
END:STANDARD
BEGIN:DAYLIGHT
TZOFFSETFROM:+0100
TZOFFSETTO:+0200
TZNAME:CEST
DTSTART:20210328T010000
END:DAYLIGHT
BEGIN:STANDARD
TZOFFSETFROM:+0200
TZOFFSETTO:+0100
TZNAME:CET
DTSTART:20211031T010000
END:STANDARD
END:VTIMEZONE
BEGIN:VEVENT
DTSTART;TZID=Europe/Madrid:20201213T180000
DTEND;TZID=Europe/Madrid:20201213T190000
DTSTAMP:20260425T034957
CREATED:20201211T093428Z
LAST-MODIFIED:20201211T115257Z
UID:793-1607882400-1607886000@aamadridsur.org
SUMMARY:Prismáticos: Características\, prestaciones\, uso...
DESCRIPTION:Tenemos un nuevo evento para este fin de semana! Si os interesa aprender todo lo relativo a los prismáticos y su uso en Astronomía\, no os perdáis la nueva charla del próximo día. Nuestro socio Javier Dominguez Moreno\, nos hablará sobre los prismáticos\, prestaciones\, uso\, y mucho más! \nConvocatoria Zoom: \n\nDomingo 13 Diciembre\, Javier Dominguez\, nos hablará Sobre Prismáticos.\n\nDatos de acceso en Zoom:  ID: 98328386287\, Clave acceso: 682814.
URL:https://aamadridsur.org/event/prismaticos-caracteristicas-prestaciones-uso/
LOCATION:Madrid
CATEGORIES:Conferencia
ATTACH;FMTTYPE=image/jpeg:https://aamadridsur.org/wp-content/uploads/aamsprismaticos.jpg
END:VEVENT
END:VCALENDAR