BEGIN:VCALENDAR
VERSION:2.0
PRODID:-//Agrupación Astronómica Madrid Sur - ECPv6.15.13.1//NONSGML v1.0//EN
CALSCALE:GREGORIAN
METHOD:PUBLISH
X-WR-CALNAME:Agrupación Astronómica Madrid Sur
X-ORIGINAL-URL:https://aamadridsur.org
X-WR-CALDESC:Eventos para Agrupación Astronómica Madrid Sur
REFRESH-INTERVAL;VALUE=DURATION:PT1H
X-Robots-Tag:noindex
X-PUBLISHED-TTL:PT1H
BEGIN:VTIMEZONE
TZID:Europe/Madrid
BEGIN:DAYLIGHT
TZOFFSETFROM:+0100
TZOFFSETTO:+0200
TZNAME:CEST
DTSTART:20200329T010000
END:DAYLIGHT
BEGIN:STANDARD
TZOFFSETFROM:+0200
TZOFFSETTO:+0100
TZNAME:CET
DTSTART:20201025T010000
END:STANDARD
BEGIN:DAYLIGHT
TZOFFSETFROM:+0100
TZOFFSETTO:+0200
TZNAME:CEST
DTSTART:20210328T010000
END:DAYLIGHT
BEGIN:STANDARD
TZOFFSETFROM:+0200
TZOFFSETTO:+0100
TZNAME:CET
DTSTART:20211031T010000
END:STANDARD
BEGIN:DAYLIGHT
TZOFFSETFROM:+0100
TZOFFSETTO:+0200
TZNAME:CEST
DTSTART:20220327T010000
END:DAYLIGHT
BEGIN:STANDARD
TZOFFSETFROM:+0200
TZOFFSETTO:+0100
TZNAME:CET
DTSTART:20221030T010000
END:STANDARD
END:VTIMEZONE
BEGIN:VEVENT
DTSTART;TZID=Europe/Madrid:20211218T110000
DTEND;TZID=Europe/Madrid:20211218T130000
DTSTAMP:20260424T100157
CREATED:20211127T135208Z
LAST-MODIFIED:20211127T135209Z
UID:992-1639825200-1639832400@aamadridsur.org
SUMMARY:Taller participativo sobre el Sistema Solar. EL SOL
DESCRIPTION:En esta actividad realizaremos un taller participativo en el que cada socio podrá hablar sobre un tema concreto de nuestra estrella\, el Sol. Serán intervenciones cortas\, de no más de 10 minutos en las que cada socio hablará de temas diversos\, por ejemplo: \n  \n\nEl campo magnético\nCaracterísticas del Sol: tamaño\, tipo estelar\, evolución…\nLa cromosfera\nLa fotosfera\nObservación solar\nLas manchas solares\nEl número de Wolf\nEl ciclo solar\nTormentas solares
URL:https://aamadridsur.org/event/taller-participativo-sobre-el-sistema-solar-el-sol/
LOCATION:Aula de Astronomía de Fuenlabrada\, c/ Callao 61\, Fuenlabrada\, Madrid\, 28945\, España
CATEGORIES:Conferencia
ATTACH;FMTTYPE=image/jpeg:https://aamadridsur.org/wp-content/uploads/tallersol.jpg
ORGANIZER;CN="AAMS":MAILTO:contacto@aamadridsur.org
END:VEVENT
END:VCALENDAR