BEGIN:VCALENDAR
VERSION:2.0
PRODID:-//Agrupación Astronómica Madrid Sur - ECPv6.15.13.1//NONSGML v1.0//EN
CALSCALE:GREGORIAN
METHOD:PUBLISH
X-ORIGINAL-URL:https://aamadridsur.org
X-WR-CALDESC:Eventos para Agrupación Astronómica Madrid Sur
REFRESH-INTERVAL;VALUE=DURATION:PT1H
X-Robots-Tag:noindex
X-PUBLISHED-TTL:PT1H
BEGIN:VTIMEZONE
TZID:Europe/Madrid
BEGIN:DAYLIGHT
TZOFFSETFROM:+0100
TZOFFSETTO:+0200
TZNAME:CEST
DTSTART:20200329T010000
END:DAYLIGHT
BEGIN:STANDARD
TZOFFSETFROM:+0200
TZOFFSETTO:+0100
TZNAME:CET
DTSTART:20201025T010000
END:STANDARD
BEGIN:DAYLIGHT
TZOFFSETFROM:+0100
TZOFFSETTO:+0200
TZNAME:CEST
DTSTART:20210328T010000
END:DAYLIGHT
BEGIN:STANDARD
TZOFFSETFROM:+0200
TZOFFSETTO:+0100
TZNAME:CET
DTSTART:20211031T010000
END:STANDARD
BEGIN:DAYLIGHT
TZOFFSETFROM:+0100
TZOFFSETTO:+0200
TZNAME:CEST
DTSTART:20220327T010000
END:DAYLIGHT
BEGIN:STANDARD
TZOFFSETFROM:+0200
TZOFFSETTO:+0100
TZNAME:CET
DTSTART:20221030T010000
END:STANDARD
END:VTIMEZONE
BEGIN:VEVENT
DTSTART;TZID=Europe/Madrid:20211112T191500
DTEND;TZID=Europe/Madrid:20211112T201500
DTSTAMP:20260424T112123
CREATED:20211110T143216Z
LAST-MODIFIED:20211110T144420Z
UID:971-1636744500-1636748100@aamadridsur.org
SUMMARY:Semana de la ciencia en la AAMS
DESCRIPTION:Con motivo de la semana de la ciencia\, presentamos dos charlas que tendrán lugar en la sede de la Agrupación Astronómica de Madrid Sur. Comenzaremos «Divulgando Astronomía para los peques»\, Daniel Quesada y Azahara López\, del grupo Kepler\, nos enseñarán la mejor manera de divulgar Astronomía a los niños en colegios\, hospitales y observaciones públicas. \n\nViernes 12 Noviembre\, 19:15h\, Daniel Quesada y Azahara López\, componentes del grupo Kepler\, nos darán pinceladas de cómo divulgar astronomía para los más pequeños\, con el título de la charla\, «Divulgando Astronomía para los peques»\n\nCharla presencial en el aula de Astronomía de Fuenlabrada\, sede de la AAMS.\n\n\n\n  \n \n 
URL:https://aamadridsur.org/event/semana-de-la-ciencia-en-la-aams/
LOCATION:Madrid
CATEGORIES:Conferencia
END:VEVENT
BEGIN:VEVENT
DTSTART;TZID=Europe/Madrid:20211113T110000
DTEND;TZID=Europe/Madrid:20211113T120000
DTSTAMP:20260424T112123
CREATED:20211110T144301Z
LAST-MODIFIED:20211110T144301Z
UID:973-1636801200-1636804800@aamadridsur.org
SUMMARY:Semana de la ciencia en la AAMS II
DESCRIPTION:Continuamos en la semana de la ciencia en la AAMS\, la segunda charla que tendrán lugar en la sede de la Agrupación Astronómica de Madrid Sur\, vendrá de la mano de nuestro compañero Luis Gil  «Charla – coloquio: Astronomía de iniciación«\, donde nos enseñará como iniciarnos en el maravillo mundo de la Astronomía. \n\nSábado 13 Noviembre\, 11:00h\, Luis Gil\, socio veterano de la agrupación\, nos deleitará con esta interesante charla que servirá de base no solo a los que se inician en el campo\, sino también\, seguro que nos enseñará trucos e información interesante a los ya iniciados.\n\nCharla presencial en el aula de Astronomía de Fuenlabrada\, sede de la AAMS.
URL:https://aamadridsur.org/event/semana-de-la-ciencia-en-la-aams-ii-2/
LOCATION:Madrid
CATEGORIES:Conferencia
END:VEVENT
END:VCALENDAR