BEGIN:VCALENDAR
VERSION:2.0
PRODID:-//Agrupación Astronómica Madrid Sur - ECPv6.15.13.1//NONSGML v1.0//EN
CALSCALE:GREGORIAN
METHOD:PUBLISH
X-ORIGINAL-URL:https://aamadridsur.org
X-WR-CALDESC:Eventos para Agrupación Astronómica Madrid Sur
REFRESH-INTERVAL;VALUE=DURATION:PT1H
X-Robots-Tag:noindex
X-PUBLISHED-TTL:PT1H
BEGIN:VTIMEZONE
TZID:Europe/Madrid
BEGIN:DAYLIGHT
TZOFFSETFROM:+0100
TZOFFSETTO:+0200
TZNAME:CEST
DTSTART:20200329T010000
END:DAYLIGHT
BEGIN:STANDARD
TZOFFSETFROM:+0200
TZOFFSETTO:+0100
TZNAME:CET
DTSTART:20201025T010000
END:STANDARD
BEGIN:DAYLIGHT
TZOFFSETFROM:+0100
TZOFFSETTO:+0200
TZNAME:CEST
DTSTART:20210328T010000
END:DAYLIGHT
BEGIN:STANDARD
TZOFFSETFROM:+0200
TZOFFSETTO:+0100
TZNAME:CET
DTSTART:20211031T010000
END:STANDARD
BEGIN:DAYLIGHT
TZOFFSETFROM:+0100
TZOFFSETTO:+0200
TZNAME:CEST
DTSTART:20220327T010000
END:DAYLIGHT
BEGIN:STANDARD
TZOFFSETFROM:+0200
TZOFFSETTO:+0100
TZNAME:CET
DTSTART:20221030T010000
END:STANDARD
END:VTIMEZONE
BEGIN:VEVENT
DTSTART;TZID=Europe/Madrid:20210613T180000
DTEND;TZID=Europe/Madrid:20210613T190000
DTSTAMP:20260424T183814
CREATED:20210607T143109Z
LAST-MODIFIED:20210607T143109Z
UID:865-1623607200-1623610800@aamadridsur.org
SUMMARY:Un punto de vista: Oculares astronómicos
DESCRIPTION:Continuamos con nuestras conferencias en la AAMS. Esta vez\, tendremos una charla sobre oculares astronómicos\, de la mano de nuestro socio Javier Dominguez.  \n\n\nDomingo 13 Junio\, 18:00h\, Javier Dominguez\, socio veterano de la AAMS\, nos dará una interesante charla sobre oculares astronómicos.\n\nDatos de acceso en Zoom:  ID: 99826178013\, Clave acceso: 597522.
URL:https://aamadridsur.org/event/un-punto-de-vista-oculares-astronomicos/
LOCATION:Madrid
CATEGORIES:Conferencia
END:VEVENT
BEGIN:VEVENT
DTSTART;TZID=Europe/Madrid:20210616T193000
DTEND;TZID=Europe/Madrid:20210616T203000
DTSTAMP:20260424T183814
CREATED:20210614T080556Z
LAST-MODIFIED:20210614T080556Z
UID:869-1623871800-1623875400@aamadridsur.org
SUMMARY:En busca de vida fuera de la tierra
DESCRIPTION:Esta semana tenemos dos colaboraciones de lujo en la charlas de la AAMS. Este miércoles\, nos iremos con Carlos Briones\, investigador\, científico y escritor\, «En busca de vida fuera de la tierra«. \n\n\nMiércoles 16 Junio\, 19:30h\, Carlos Briones\, Investigador del CSIC en el centro de astrobiología (CSIC-INTA)\, escritor y divulgador científico\, nos dará una interesante charla «En busca de la vida fuera de la tierra.\n\nDatos de acceso en Zoom:  ID: 89684706078\, Clave acceso: 943193.
URL:https://aamadridsur.org/event/en-busca-de-vida-fuera-de-la-tierra/
LOCATION:Madrid
CATEGORIES:Conferencia
END:VEVENT
BEGIN:VEVENT
DTSTART;TZID=Europe/Madrid:20210618T190000
DTEND;TZID=Europe/Madrid:20210618T200000
DTSTAMP:20260424T183814
CREATED:20210614T082331Z
LAST-MODIFIED:20210614T082331Z
UID:874-1624042800-1624046400@aamadridsur.org
SUMMARY:Bólidos y meteoros\, ¿qué nos enseñan?
DESCRIPTION:Esta semana tenemos dos colaboraciones de lujo en la charlas de la AAMS. Este viernes\, Jose Maria Madiedo\, astrofísico en el Instituto de Astrofísica de Andalucía\, centrado en meteoroides\, meteoros y meteoritos\, nos contará información interesante sobre Bólidos y Meteoros. \n\n\nViernes 18 Junio\, 19:00h\, Jose Maria Madiedo\, Doctor en Física (especialidad en Astrofísica)\, Doctor en Química\, Doctor Vinculado al Instituto de Astrofísica de Andalucía (IAA-CSIC)\, nos hablará sobre «Bólidos y meteoros\, ¿qué nos dicen?»\n\nDatos de acceso en Zoom:  ID: 86301762916\, Clave acceso: 713979.
URL:https://aamadridsur.org/event/bolidos-y-meteoros-que-nos-ensenan/
LOCATION:Madrid
CATEGORIES:Conferencia
END:VEVENT
END:VCALENDAR